BEGIN:VCALENDAR
VERSION:2.0
PRODID:-//Ruth Asawa - ECPv6.15.19//NONSGML v1.0//EN
CALSCALE:GREGORIAN
METHOD:PUBLISH
X-WR-CALNAME:Ruth Asawa
X-ORIGINAL-URL:https://ruthasawa.com
X-WR-CALDESC:Events for Ruth Asawa
REFRESH-INTERVAL;VALUE=DURATION:PT1H
X-Robots-Tag:noindex
X-PUBLISHED-TTL:PT1H
BEGIN:VTIMEZONE
TZID:UTC
BEGIN:STANDARD
TZOFFSETFROM:+0000
TZOFFSETTO:+0000
TZNAME:UTC
DTSTART:20040101T000000
END:STANDARD
END:VTIMEZONE
BEGIN:VEVENT
DTSTART;VALUE=DATE:20160313
DTEND;VALUE=DATE:20160905
DTSTAMP:20260424T000537
CREATED:20160306T025516Z
LAST-MODIFIED:20160324T235937Z
UID:406-1457827200-1473033599@ruthasawa.com
SUMMARY:Revolution in the Making: Abstract Sculpture by Women\, 1947 – 2016
DESCRIPTION:Los Angeles… On March 13\, 2016\, Hauser Wirth & Schimmel opened its doors to present ‘Revolution in the Making: Abstract Sculpture by Women\, 1947 – 2016’\, the inaugural exhibition at its new complex in the heart of the downtown Los Angeles Arts District. Through nearly 100 works made by 34 artists over the past seventy years\, this ambitious undertaking traces ways in which women have changed the course of art by deftly transforming the language of sculpture since the postwar period. Works on view reveal their makers inventing radically new forms and processes that privilege solo studio practice\, tactility\, and the idiosyncrasies of the artist’s own hand. ‘Revolution in the Making’ explores multiple strains of artistic approaches\, characterized by abstraction and repetition\, that reject the precedent of a monolithic masterwork on a pedestal\, employing such tactics as stacking\, hanging\, and intertwining\, to create an intimate reciprocity between artist and viewer. The exhibition examines how elements that are central to art today – including engagement with found\, experimental\, and recycled materials\, as well as an embrace of contingency\, imperfection\, and unstructured play – were propelled by the work of women who\, in seeking new means to express their own voices\, dramatically expanded the definition of sculpture. \nCheck their website for exact dates and times they are open.
URL:https://ruthasawa.com/exhibition/revolution-in-the-making-abstract-sculpture-by-women-1947-2016/
LOCATION:Hauser Wirth & Schimmel\, 901 East Third Street\, Los Angeles\, 90013
ATTACH;FMTTYPE=image/jpeg:https://ruthasawa.com/wp-content/uploads/2016/03/HWS-LA-GROUP-ASAWA-WEB-with-credit-imbedded.jpg
END:VEVENT
BEGIN:VEVENT
DTSTART;VALUE=DATE:20160221
DTEND;VALUE=DATE:20160516
DTSTAMP:20260424T000537
CREATED:20160130T012523Z
LAST-MODIFIED:20160324T234030Z
UID:169-1456012800-1463356799@ruthasawa.com
SUMMARY:Leap Before You Look at the Hammer Museum
DESCRIPTION:Leap Before You Look: Black Mountain College 1933 – 1957 focuses on how\, despite its brief existence\, BMC became a seminal meeting place for many of the artists\, musicians\, poets\, and thinkers who would become the principal practitioners in their fields of the postwar period. Figures such as Anni and Josef Albers\, John Cage\, Merce Cunningham\, Robert Rauschenberg\, Elaine and Willem de Kooning\, Buckminster Fuller\, Ruth Asawa\, Robert Motherwell\, Gwendolyn and Jacob Knight Lawrence\, Charles Olson\, and Robert Creeley\, among many others\, taught and studied at BMC. Teaching at the college combined the craft principles of Germany’s revolutionary Bauhaus school with interdisciplinary inquiry\, discussion\, and experimentation\, forming the template for American art schools. While physically rooted in the rural South\, BMC formed an unlikely cosmopolitan meeting place for American\, European\, Asian\, and Latin American art\, ideas\, and individuals. The exhibition argues that BMC was as an important historical precedent for thinking about relationships between art\, democracy\, and globalism. It examines the college’s critical role in shaping many major concepts\, movements\, and forms in postwar art and education\, including assemblage\, modern dance and music\, and the American studio craft movement–influence that can still be seen and felt today. \nCheck their website for exact dates and times they are open.
URL:https://ruthasawa.com/exhibition/leap-before-you-look-black-mountain-college-1933-1957-at-the-hammer-museum/
LOCATION:Hammer Museum\, 10899 Wilshire Boulevard\, Los Angeles\, CA\, 90024\, United States
ATTACH;FMTTYPE=image/jpeg:https://ruthasawa.com/wp-content/uploads/2016/01/leaf-crop-e1454403827858.jpg
END:VEVENT
BEGIN:VEVENT
DTSTART;VALUE=DATE:20160131
DTEND;VALUE=DATE:20160530
DTSTAMP:20260424T000537
CREATED:20160310T011315Z
LAST-MODIFIED:20160324T233816Z
UID:479-1454198400-1464566399@ruthasawa.com
SUMMARY:Architecture of Life
DESCRIPTION:Architecture of Life\, the inaugural exhibition in BAMPFA’s landmark new building\, explores the ways that architecture—as concept\, metaphor\, and practice—illuminates various aspects of life experience: the nature of the self and psyche\, the fundamental structures of reality\, and the power of the imagination to reshape our world. Occupying every gallery in the new building\, designed by Diller Scofidio + Renfro\, the exhibition comprises over two hundred works of art in a wide range of media\, as well as scientific illustrations and architectural drawings and models\, made over the past two thousand years. Boundary-breaking\, innovative\, and radically interdisciplinary\, the exhibition presents visually exquisite\, rarely seen works in ways that suggest new connections and meanings. A wonderful lecture series accompanies this exhibit. Learn more >> \nCheck their website for exact dates and times they are open.
URL:https://ruthasawa.com/exhibition/architecture-of-life/
LOCATION:Berkeley Art Museum and Pacific Film Archive\, 2155 Center Street\, Berkeley\, 94704\, United States
ATTACH;FMTTYPE=image/jpeg:https://ruthasawa.com/wp-content/uploads/2016/03/Asawa-Berkely-group-FINAL_Cuneo-copyright.jpg
END:VEVENT
BEGIN:VEVENT
DTSTART;VALUE=DATE:20150928
DTEND;VALUE=DATE:20160407
DTSTAMP:20260424T000537
CREATED:20160325T000808Z
LAST-MODIFIED:20160325T002614Z
UID:936-1443398400-1459987199@ruthasawa.com
SUMMARY:The Whitney's Collection
DESCRIPTION:The more than two hundred works on display on the seventh and sixth floors represent a selection of the Whitney Museum of American Art’s collection. Organized in a rough chronological sequence beginning on the seventh floor\, the presentation is divided into eleven thematic “chapters.” Each chapter takes its name not from a movement or style but from the title of a work that evokes the section’s animating impulse. The exhibition elaborates some of the themes\, ideas\, beliefs\, and passions that have galvanized American artists in their struggle to work within and against established conventions\, often directly engaging their political and social contexts. Works of art across all mediums are displayed together\, acknowledging the ways in which artists have engaged various modes of production and dissolved the boundaries between them. \nCheck their website for exact dates and times they are open.
URL:https://ruthasawa.com/exhibition/the-whitneys-collection/
LOCATION:Whitney Museum of American Art\, 99 Gansevoort Street\, New York\, NY\, 10014\, United States
ATTACH;FMTTYPE=image/jpeg:https://ruthasawa.com/wp-content/uploads/2016/03/63_38_vw2.jpg
END:VEVENT
BEGIN:VEVENT
DTSTART;VALUE=DATE:20051017
DTEND;VALUE=DATE:20201018
DTSTAMP:20260424T000537
CREATED:20160316T220109Z
LAST-MODIFIED:20160324T232952Z
UID:727-1129507200-1602979199@ruthasawa.com
SUMMARY:Ruth Asawa: Permanent Installation
DESCRIPTION:In 2005\, in celebration of the opening of the redesigned de Young Museum in San Francisco’s Golden Gate Park\, Ruth Asawa donated 15 sculptures to the Fine Arts Museums for a permanent installation. This grouping was personally selected by Asawa as being excellent examples of many of her sculptural forms. In keeping with Asawa’s belief that art should be readily accessible to all\, these works are housed in the Education Tower\, where there is no charge for visitors. \nCheck their website for exact dates and times they are open.
URL:https://ruthasawa.com/exhibition/ruth-asawa-permanent-installation/
LOCATION:de Young Museum\, Education Tower\, 50 Hagiwara Tea Garden Drive\, San Francisco\, 94118\, United States
ATTACH;FMTTYPE=image/jpeg:https://ruthasawa.com/wp-content/uploads/2016/03/De-Young-Installation-square-copy.jpg
END:VEVENT
END:VCALENDAR